Workbook

Sheet Read me first
C3: Postgraduate Diploma in Business and Commerce Course Code: B5003
C5: Before using the tool, do take note of the following:
C7: 1 | D7: If you failed a unit, do not include it in this course map.
C8: 2 | D8: Duplicated units will be highlighted in red.
C9: 3 | D9: If you plan to enrol in the electives from other schools, it is your responsibility to ensure that you have met the pre-requisities.
C10: 4 | D10: The course map tool does not help you check the prerequisites of the unit. You need to refer to the handbook and ensure that you have met the prerequisities before enrolling in that unit.
C11: 5 | D11: If you include the wrong unit code from your major, no warning code will appear. Please ensure you type in the correct unit code without spaces. Eg. "ACW5903"
C12: 6 | D12: You must complete 1 Units (24 credit points) from Parts A described in the Research component of the course
C13: 7 | D13: You must complete 4 Units (24 credit points) from Parts B described in the Coursework component of the course
C18: Acknowledgements
D19: Select here | F19: I acknowledge that course map planning and unit selection my responsibility as a student.
D21: Select here | F21: I acknowledge that I have read and understood the course map planning guide.
K23: NEXT

Sheet Course Map
C3: Postgraduate Diploma in Business and Commerce Course Code: B5003
C4: Course Map Tool
C6: Name | H6: Summary - number of units
C7: Student ID | H7: Total units | I7: =SUM(I8:I9) -> 0
C8: Student Email | H8: Level 4000 | I8: =SUMPRODUCT((LEN(TRIM($D$20:$D$51))=7)*(MID(TRIM($D$20:$D$51),4,1)="4"))+'Credit (Advanced Standing)'!$C$15+SUMPRODUCT((LEN(TRIM('Credit (Advanced Standing)'!$C$22:$C$37))=7)*(MID(TRIM('Credit (Advanced Standing)'!$C$22:$C$37),4,1)="4"))
C9: Intake Year | D9: Select Intake Year | E9: =IF(D9="Select Intake Year"," <= Please pick your intake year via dropdown list"," ") -> <= Please pick your intake year via dropdown list | H9: Level 5000 | I9: =SUMPRODUCT((LEN(TRIM($D$20:$D$51))=7)*(MID(TRIM($D$20:$D$51),4,1)="5"))+'Credit (Advanced Standing)'!$C$16+SUMPRODUCT((LEN(TRIM('Credit (Advanced Standing)'!$C$22:$C$37))=7)*(MID(TRIM('Credit (Advanced Standing)'!$C$22:$C$37),4,1)="5"))
C10: Intake Semester | D10: Select Intake Semester | E10: =IF(D10="Select Intake Semester"," <= Please pick your intake semester via dropdown list"," ") -> <= Please pick your intake semester via dropdown list
C12: Part A | D12: Research | H12: Part A | I12: =COUNTIF($E$20:$E$51,"*Core*")+COUNTIF($E$20:$E$51,"*Additional*")+COUNTIF('Credit (Advanced Standing)'!$D$22:$D$37,"*Core*") -> 0
C13: Part B | D13: Coursework | H13: Part B | I13: =COUNTIF($F$20:$F$51,"*Core*")+COUNTIF($F$20:$F$51,"*Additional*")+COUNTIF('Credit (Advanced Standing)'!$E$22:$E$37,"*Core*") -> 0
C17: School of Business, Monash University Malaysia Template version: 9.01.2024
C18: Year, Semester | D18: Unit Code (e.g. ACW5120 - make sure there are no spaces between the letters and numbers) | E18: Part A | F18: Part B | I18: Available in the semester?
E19: =D12 -> Research | F19: =D13 -> Coursework
C20: =IF(AND($D$10<>"Select Intake Semester",$D$9<>"Select Intake Year"),IF($D$10="February Intake",$D$9,IF($D$10="July Intake",$D$9,$D$9)),"Select Intake Year") -> Select Intake Year | E20: =IFERROR(IF(ISBLANK($D20),"",(INDEX('Unit Schedule (Year 2024)'!$A:$H,MATCH(TRIM('Course Map'!$D20),'Unit Schedule (Year 2024)'!$A:$A,0),MATCH('Course Map'!E$19,'Unit Schedule (Year 2024)'!$1:$1,0)))),"-") | F20: =IFERROR(IF(ISBLANK($D20),"",(INDEX('Unit Schedule (Year 2024)'!$A:$H,MATCH(TRIM('Course Map'!$D20),'Unit Schedule (Year 2024)'!$A:$A,0),MATCH('Course Map'!F$19,'Unit Schedule (Year 2024)'!$1:$1,0)))),"-") | G20: =IFERROR(IF(ISBLANK($D20),"",(INDEX('Unit Schedule (Year 2024)'!$A:$H,MATCH(TRIM('Course Map'!$D20),'Unit Schedule (Year 2024)'!$A:$A,0),MATCH('Course Map'!G$19,'Unit Schedule (Year 2024)'!$1:$1,0)))),"-") | H20: =IF(ISBLANK(D20),"",IF(AND(E20="-",F20="-",G20="-",OR(AND(LEN(TRIM(D20))=7,MID(TRIM(D20),4,1)="4"),AND(LEN(TRIM(D20))=7,MID(TRIM(D20),4,1)="5"))),"Additional","-")) | I20: =IF($H20="Additional","refer to handbook",IF(ISBLANK(D20),"",IF(ISNUMBER(SEARCH($C$22,INDEX('Unit Schedule (Year 2024)'!$A:$H,MATCH(TRIM('Course Map'!D20),'Unit Schedule (Year 2024)'!$A:$A,0),4))),"Yes","No")))
E21: =IFERROR(IF(ISBLANK($D21),"",(INDEX('Unit Schedule (Year 2024)'!$A:$H,MATCH(TRIM('Course Map'!$D21),'Unit Schedule (Year 2024)'!$A:$A,0),MATCH('Course Map'!E$19,'Unit Schedule (Year 2024)'!$1:$1,0)))),"-") | F21: =IFERROR(IF(ISBLANK($D21),"",(INDEX('Unit Schedule (Year 2024)'!$A:$H,MATCH(TRIM('Course Map'!$D21),'Unit Schedule (Year 2024)'!$A:$A,0),MATCH('Course Map'!F$19,'Unit Schedule (Year 2024)'!$1:$1,0)))),"-") | G21: =IFERROR(IF(ISBLANK($D21),"",(INDEX('Unit Schedule (Year 2024)'!$A:$H,MATCH(TRIM('Course Map'!$D21),'Unit Schedule (Year 2024)'!$A:$A,0),MATCH('Course Map'!G$19,'Unit Schedule (Year 2024)'!$1:$1,0)))),"-") | H21: =IF(ISBLANK(D21),"",IF(AND(E21="-",F21="-",G21="-",OR(AND(LEN(TRIM(D21))=7,MID(TRIM(D21),4,1)="4"),AND(LEN(TRIM(D21))=7,MID(TRIM(D21),4,1)="5"))),"Additional","-")) | I21: =IF($H21="X","refer to handbook",IF(ISBLANK(D21),"",IF(ISNUMBER(SEARCH($C$22,INDEX('Unit Schedule (Year 2024)'!$A:$H,MATCH(TRIM('Course Map'!D21),'Unit Schedule (Year 2024)'!$A:$A,0),4))),"Yes","No")))
C22: =IF($D$10<>"Select Intake Semester",IF($D$10="February Intake","Semester 1",IF($D$10="July Intake","Semester 2","October")),"Please select semester") -> Please select semester | E22: =IFERROR(IF(ISBLANK($D22),"",(INDEX('Unit Schedule (Year 2024)'!$A:$H,MATCH(TRIM('Course Map'!$D22),'Unit Schedule (Year 2024)'!$A:$A,0),MATCH('Course Map'!E$19,'Unit Schedule (Year 2024)'!$1:$1,0)))),"-") | F22: =IFERROR(IF(ISBLANK($D22),"",(INDEX('Unit Schedule (Year 2024)'!$A:$H,MATCH(TRIM('Course Map'!$D22),'Unit Schedule (Year 2024)'!$A:$A,0),MATCH('Course Map'!F$19,'Unit Schedule (Year 2024)'!$1:$1,0)))),"-") | G22: =IFERROR(IF(ISBLANK($D22),"",(INDEX('Unit Schedule (Year 2024)'!$A:$H,MATCH(TRIM('Course Map'!$D22),'Unit Schedule (Year 2024)'!$A:$A,0),MATCH('Course Map'!G$19,'Unit Schedule (Year 2024)'!$1:$1,0)))),"-") | H22: =IF(ISBLANK(D22),"",IF(AND(E22="-",F22="-",G22="-",OR(AND(LEN(TRIM(D22))=7,MID(TRIM(D22),4,1)="4"),AND(LEN(TRIM(D22))=7,MID(TRIM(D22),4,1)="5"))),"Additional","-")) | I22: =IF($H22="YES","refer to handbook",IF(ISBLANK(D22),"",IF(ISNUMBER(SEARCH($C$22,INDEX('Unit Schedule (Year 2024)'!$A:$H,MATCH(TRIM('Course Map'!D22),'Unit Schedule (Year 2024)'!$A:$A,0),4))),"Yes","No")))
E23: =IFERROR(IF(ISBLANK($D23),"",(INDEX('Unit Schedule (Year 2024)'!$A:$H,MATCH(TRIM('Course Map'!$D23),'Unit Schedule (Year 2024)'!$A:$A,0),MATCH('Course Map'!E$19,'Unit Schedule (Year 2024)'!$1:$1,0)))),"-") | F23: =IFERROR(IF(ISBLANK($D23),"",(INDEX('Unit Schedule (Year 2024)'!$A:$H,MATCH(TRIM('Course Map'!$D23),'Unit Schedule (Year 2024)'!$A:$A,0),MATCH('Course Map'!F$19,'Unit Schedule (Year 2024)'!$1:$1,0)))),"-") | G23: =IFERROR(IF(ISBLANK($D23),"",(INDEX('Unit Schedule (Year 2024)'!$A:$H,MATCH(TRIM('Course Map'!$D23),'Unit Schedule (Year 2024)'!$A:$A,0),MATCH('Course Map'!G$19,'Unit Schedule (Year 2024)'!$1:$1,0)))),"-") | H23: =IF(ISBLANK(D23),"",IF(AND(E23="-",F23="-",G23="-",OR(AND(LEN(TRIM(D23))=7,MID(TRIM(D23),4,1)="4"),AND(LEN(TRIM(D23))=7,MID(TRIM(D23),4,1)="5"))),"Additional","-")) | I23: =IF($H23="YES","refer to handbook",IF(ISBLANK(D23),"",IF(ISNUMBER(SEARCH($C$22,INDEX('Unit Schedule (Year 2024)'!$A:$H,MATCH(TRIM('Course Map'!D23),'Unit Schedule (Year 2024)'!$A:$A,0),4))),"Yes","No")))
C24: =IF(AND($D$10<>"Select Intake Semester",$D$9<>"Select Intake Year"),IF($D$10="February Intake",$D$9,IF($D$10="July Intake",$D$9+1,$D$9+1)),"Select Intake Year") -> Select Intake Year | E24: =IFERROR(IF(ISBLANK($D24),"",(INDEX('Unit Schedule (Year 2024)'!$A:$H,MATCH(TRIM('Course Map'!$D24),'Unit Schedule (Year 2024)'!$A:$A,0),MATCH('Course Map'!E$19,'Unit Schedule (Year 2024)'!$1:$1,0)))),"-") | F24: =IFERROR(IF(ISBLANK($D24),"",(INDEX('Unit Schedule (Year 2024)'!$A:$H,MATCH(TRIM('Course Map'!$D24),'Unit Schedule (Year 2024)'!$A:$A,0),MATCH('Course Map'!F$19,'Unit Schedule (Year 2024)'!$1:$1,0)))),"-") | G24: =IFERROR(IF(ISBLANK($D24),"",(INDEX('Unit Schedule (Year 2024)'!$A:$H,MATCH(TRIM('Course Map'!$D24),'Unit Schedule (Year 2024)'!$A:$A,0),MATCH('Course Map'!G$19,'Unit Schedule (Year 2024)'!$1:$1,0)))),"-") | H24: =IF(ISBLANK(D24),"",IF(AND(E24="-",F24="-",G24="-",OR(AND(LEN(TRIM(D24))=7,MID(TRIM(D24),4,1)="4"),AND(LEN(TRIM(D24))=7,MID(TRIM(D24),4,1)="5"))),"Additional","-")) | I24: =IF($H24="YES","refer to handbook",IF(ISBLANK(D24),"",IF(ISNUMBER(SEARCH($C$26,INDEX('Unit Schedule (Year 2024)'!$A:$H,MATCH(TRIM('Course Map'!D24),'Unit Schedule (Year 2024)'!$A:$A,0),4))),"Yes","No")))
E25: =IFERROR(IF(ISBLANK($D25),"",(INDEX('Unit Schedule (Year 2024)'!$A:$H,MATCH(TRIM('Course Map'!$D25),'Unit Schedule (Year 2024)'!$A:$A,0),MATCH('Course Map'!E$19,'Unit Schedule (Year 2024)'!$1:$1,0)))),"-") | F25: =IFERROR(IF(ISBLANK($D25),"",(INDEX('Unit Schedule (Year 2024)'!$A:$H,MATCH(TRIM('Course Map'!$D25),'Unit Schedule (Year 2024)'!$A:$A,0),MATCH('Course Map'!F$19,'Unit Schedule (Year 2024)'!$1:$1,0)))),"-") | G25: =IFERROR(IF(ISBLANK($D25),"",(INDEX('Unit Schedule (Year 2024)'!$A:$H,MATCH(TRIM('Course Map'!$D25),'Unit Schedule (Year 2024)'!$A:$A,0),MATCH('Course Map'!G$19,'Unit Schedule (Year 2024)'!$1:$1,0)))),"-") | H25: =IF(ISBLANK(D25),"",IF(AND(E25="-",F25="-",G25="-",OR(AND(LEN(TRIM(D25))=7,MID(TRIM(D25),4,1)="4"),AND(LEN(TRIM(D25))=7,MID(TRIM(D25),4,1)="5"))),"Additional","-")) | I25: =IF($H25="YES","refer to handbook",IF(ISBLANK(D25),"",IF(ISNUMBER(SEARCH($C$26,INDEX('Unit Schedule (Year 2024)'!$A:$H,MATCH(TRIM('Course Map'!D25),'Unit Schedule (Year 2024)'!$A:$A,0),4))),"Yes","No")))
C26: =IF($D$10<>"Select Intake Semester",IF($D$10="February Intake","Semester 2",IF($D$10="July Intake","Semester 1","Semester 1")),"Please select semester") -> Please select semester | E26: =IFERROR(IF(ISBLANK($D26),"",(INDEX('Unit Schedule (Year 2024)'!$A:$H,MATCH(TRIM('Course Map'!$D26),'Unit Schedule (Year 2024)'!$A:$A,0),MATCH('Course Map'!E$19,'Unit Schedule (Year 2024)'!$1:$1,0)))),"-") | F26: =IFERROR(IF(ISBLANK($D26),"",(INDEX('Unit Schedule (Year 2024)'!$A:$H,MATCH(TRIM('Course Map'!$D26),'Unit Schedule (Year 2024)'!$A:$A,0),MATCH('Course Map'!F$19,'Unit Schedule (Year 2024)'!$1:$1,0)))),"-") | G26: =IFERROR(IF(ISBLANK($D26),"",(INDEX('Unit Schedule (Year 2024)'!$A:$H,MATCH(TRIM('Course Map'!$D26),'Unit Schedule (Year 2024)'!$A:$A,0),MATCH('Course Map'!G$19,'Unit Schedule (Year 2024)'!$1:$1,0)))),"-") | H26: =IF(ISBLANK(D26),"",IF(AND(E26="-",F26="-",G26="-",OR(AND(LEN(TRIM(D26))=7,MID(TRIM(D26),4,1)="4"),AND(LEN(TRIM(D26))=7,MID(TRIM(D26),4,1)="5"))),"Additional","-")) | I26: =IF($H26="YES","refer to handbook",IF(ISBLANK(D26),"",IF(ISNUMBER(SEARCH($C$26,INDEX('Unit Schedule (Year 2024)'!$A:$H,MATCH(TRIM('Course Map'!D26),'Unit Schedule (Year 2024)'!$A:$A,0),4))),"Yes","No")))
E27: =IFERROR(IF(ISBLANK($D27),"",(INDEX('Unit Schedule (Year 2024)'!$A:$H,MATCH(TRIM('Course Map'!$D27),'Unit Schedule (Year 2024)'!$A:$A,0),MATCH('Course Map'!E$19,'Unit Schedule (Year 2024)'!$1:$1,0)))),"-") | F27: =IFERROR(IF(ISBLANK($D27),"",(INDEX('Unit Schedule (Year 2024)'!$A:$H,MATCH(TRIM('Course Map'!$D27),'Unit Schedule (Year 2024)'!$A:$A,0),MATCH('Course Map'!F$19,'Unit Schedule (Year 2024)'!$1:$1,0)))),"-") | G27: =IFERROR(IF(ISBLANK($D27),"",(INDEX('Unit Schedule (Year 2024)'!$A:$H,MATCH(TRIM('Course Map'!$D27),'Unit Schedule (Year 2024)'!$A:$A,0),MATCH('Course Map'!G$19,'Unit Schedule (Year 2024)'!$1:$1,0)))),"-") | H27: =IF(ISBLANK(D27),"",IF(AND(E27="-",F27="-",G27="-",OR(AND(LEN(TRIM(D27))=7,MID(TRIM(D27),4,1)="4"),AND(LEN(TRIM(D27))=7,MID(TRIM(D27),4,1)="5"))),"Additional","-")) | I27: =IF($H27="YES","refer to handbook",IF(ISBLANK(D27),"",IF(ISNUMBER(SEARCH($C$26,INDEX('Unit Schedule (Year 2024)'!$A:$H,MATCH(TRIM('Course Map'!D27),'Unit Schedule (Year 2024)'!$A:$A,0),4))),"Yes","No")))
C28: =IF(AND($D$10<>"Select Intake Semester",$D$9<>"Select Intake Year"),IF($D$10="February Intake",$D$9+1,IF($D$10="July Intake",$D$9+1,$D$9+1)),"Select Intake Year") -> Select Intake Year | E28: =IFERROR(IF(ISBLANK($D28),"",(INDEX('Unit Schedule (Year 2024)'!$A:$H,MATCH(TRIM('Course Map'!$D28),'Unit Schedule (Year 2024)'!$A:$A,0),MATCH('Course Map'!E$19,'Unit Schedule (Year 2024)'!$1:$1,0)))),"-") | F28: =IFERROR(IF(ISBLANK($D28),"",(INDEX('Unit Schedule (Year 2024)'!$A:$H,MATCH(TRIM('Course Map'!$D28),'Unit Schedule (Year 2024)'!$A:$A,0),MATCH('Course Map'!F$19,'Unit Schedule (Year 2024)'!$1:$1,0)))),"-") | G28: =IFERROR(IF(ISBLANK($D28),"",(INDEX('Unit Schedule (Year 2024)'!$A:$H,MATCH(TRIM('Course Map'!$D28),'Unit Schedule (Year 2024)'!$A:$A,0),MATCH('Course Map'!G$19,'Unit Schedule (Year 2024)'!$1:$1,0)))),"-") | H28: =IF(ISBLANK(D28),"",IF(AND(E28="-",F28="-",G28="-",OR(AND(LEN(TRIM(D28))=7,MID(TRIM(D28),4,1)="4"),AND(LEN(TRIM(D28))=7,MID(TRIM(D28),4,1)="5"))),"Additional","-")) | I28: =IF($H28="YES","refer to handbook",IF(ISBLANK(D28),"",IF(ISNUMBER(SEARCH($C$30,INDEX('Unit Schedule (Year 2024)'!$A:$H,MATCH(TRIM('Course Map'!D28),'Unit Schedule (Year 2024)'!$A:$A,0),4))),"Yes","No")))
E29: =IFERROR(IF(ISBLANK($D29),"",(INDEX('Unit Schedule (Year 2024)'!$A:$H,MATCH(TRIM('Course Map'!$D29),'Unit Schedule (Year 2024)'!$A:$A,0),MATCH('Course Map'!E$19,'Unit Schedule (Year 2024)'!$1:$1,0)))),"-") | F29: =IFERROR(IF(ISBLANK($D29),"",(INDEX('Unit Schedule (Year 2024)'!$A:$H,MATCH(TRIM('Course Map'!$D29),'Unit Schedule (Year 2024)'!$A:$A,0),MATCH('Course Map'!F$19,'Unit Schedule (Year 2024)'!$1:$1,0)))),"-") | G29: =IFERROR(IF(ISBLANK($D29),"",(INDEX('Unit Schedule (Year 2024)'!$A:$H,MATCH(TRIM('Course Map'!$D29),'Unit Schedule (Year 2024)'!$A:$A,0),MATCH('Course Map'!G$19,'Unit Schedule (Year 2024)'!$1:$1,0)))),"-") | H29: =IF(ISBLANK(D29),"",IF(AND(E29="-",F29="-",G29="-",OR(AND(LEN(TRIM(D29))=7,MID(TRIM(D29),4,1)="4"),AND(LEN(TRIM(D29))=7,MID(TRIM(D29),4,1)="5"))),"Additional","-")) | I29: =IF($H29="YES","refer to handbook",IF(ISBLANK(D29),"",IF(ISNUMBER(SEARCH($C$30,INDEX('Unit Schedule (Year 2024)'!$A:$H,MATCH(TRIM('Course Map'!D29),'Unit Schedule (Year 2024)'!$A:$A,0),4))),"Yes","No")))
C30: =IF($D$10<>"Select Intake Semester",IF($D$10="February Intake","Semester 1",IF($D$10="July Intake","Semester 2","Semester 2")),"Please select semester") -> Please select semester | E30: =IFERROR(IF(ISBLANK($D30),"",(INDEX('Unit Schedule (Year 2024)'!$A:$H,MATCH(TRIM('Course Map'!$D30),'Unit Schedule (Year 2024)'!$A:$A,0),MATCH('Course Map'!E$19,'Unit Schedule (Year 2024)'!$1:$1,0)))),"-") | F30: =IFERROR(IF(ISBLANK($D30),"",(INDEX('Unit Schedule (Year 2024)'!$A:$H,MATCH(TRIM('Course Map'!$D30),'Unit Schedule (Year 2024)'!$A:$A,0),MATCH('Course Map'!F$19,'Unit Schedule (Year 2024)'!$1:$1,0)))),"-") | G30: =IFERROR(IF(ISBLANK($D30),"",(INDEX('Unit Schedule (Year 2024)'!$A:$H,MATCH(TRIM('Course Map'!$D30),'Unit Schedule (Year 2024)'!$A:$A,0),MATCH('Course Map'!G$19,'Unit Schedule (Year 2024)'!$1:$1,0)))),"-") | H30: =IF(ISBLANK(D30),"",IF(AND(E30="-",F30="-",G30="-",OR(AND(LEN(TRIM(D30))=7,MID(TRIM(D30),4,1)="4"),AND(LEN(TRIM(D30))=7,MID(TRIM(D30),4,1)="5"))),"Additional","-")) | I30: =IF($H30="YES","refer to handbook",IF(ISBLANK(D30),"",IF(ISNUMBER(SEARCH($C$30,INDEX('Unit Schedule (Year 2024)'!$A:$H,MATCH(TRIM('Course Map'!D30),'Unit Schedule (Year 2024)'!$A:$A,0),4))),"Yes","No")))
E31: =IFERROR(IF(ISBLANK($D31),"",(INDEX('Unit Schedule (Year 2024)'!$A:$H,MATCH(TRIM('Course Map'!$D31),'Unit Schedule (Year 2024)'!$A:$A,0),MATCH('Course Map'!E$19,'Unit Schedule (Year 2024)'!$1:$1,0)))),"-") | F31: =IFERROR(IF(ISBLANK($D31),"",(INDEX('Unit Schedule (Year 2024)'!$A:$H,MATCH(TRIM('Course Map'!$D31),'Unit Schedule (Year 2024)'!$A:$A,0),MATCH('Course Map'!F$19,'Unit Schedule (Year 2024)'!$1:$1,0)))),"-") | G31: =IFERROR(IF(ISBLANK($D31),"",(INDEX('Unit Schedule (Year 2024)'!$A:$H,MATCH(TRIM('Course Map'!$D31),'Unit Schedule (Year 2024)'!$A:$A,0),MATCH('Course Map'!G$19,'Unit Schedule (Year 2024)'!$1:$1,0)))),"-") | H31: =IF(ISBLANK(D31),"",IF(AND(E31="-",F31="-",G31="-",OR(AND(LEN(TRIM(D31))=7,MID(TRIM(D31),4,1)="4"),AND(LEN(TRIM(D31))=7,MID(TRIM(D31),4,1)="5"))),"Additional","-")) | I31: =IF($H31="YES","refer to handbook",IF(ISBLANK(D31),"",IF(ISNUMBER(SEARCH($C$30,INDEX('Unit Schedule (Year 2024)'!$A:$H,MATCH(TRIM('Course Map'!D31),'Unit Schedule (Year 2024)'!$A:$A,0),4))),"Yes","No")))
C32: =IF(AND($D$10<>"Select Intake Semester",$D$9<>"Select Intake Year"),IF($D$10="February Intake",$D$9+1,IF($D$10="July Intake",$D$9+2,$D$9+2)),"Select Intake Year") -> Select Intake Year | E32: =IFERROR(IF(ISBLANK($D32),"",(INDEX('Unit Schedule (Year 2024)'!$A:$H,MATCH(TRIM('Course Map'!$D32),'Unit Schedule (Year 2024)'!$A:$A,0),MATCH('Course Map'!E$19,'Unit Schedule (Year 2024)'!$1:$1,0)))),"-") | F32: =IFERROR(IF(ISBLANK($D32),"",(INDEX('Unit Schedule (Year 2024)'!$A:$H,MATCH(TRIM('Course Map'!$D32),'Unit Schedule (Year 2024)'!$A:$A,0),MATCH('Course Map'!F$19,'Unit Schedule (Year 2024)'!$1:$1,0)))),"-") | G32: =IFERROR(IF(ISBLANK($D32),"",(INDEX('Unit Schedule (Year 2024)'!$A:$H,MATCH(TRIM('Course Map'!$D32),'Unit Schedule (Year 2024)'!$A:$A,0),MATCH('Course Map'!G$19,'Unit Schedule (Year 2024)'!$1:$1,0)))),"-") | H32: =IF(ISBLANK(D32),"",IF(AND(E32="-",F32="-",G32="-",OR(AND(LEN(TRIM(D32))=7,MID(TRIM(D32),4,1)="4"),AND(LEN(TRIM(D32))=7,MID(TRIM(D32),4,1)="5"))),"Additional","-")) | I32: =IF($H32="YES","refer to handbook",IF(ISBLANK(D32),"",IF(ISNUMBER(SEARCH($C$34,INDEX('Unit Schedule (Year 2024)'!$A:$H,MATCH(TRIM('Course Map'!D32),'Unit Schedule (Year 2024)'!$A:$A,0),4))),"Yes","No")))
E33: =IFERROR(IF(ISBLANK($D33),"",(INDEX('Unit Schedule (Year 2024)'!$A:$H,MATCH(TRIM('Course Map'!$D33),'Unit Schedule (Year 2024)'!$A:$A,0),MATCH('Course Map'!E$19,'Unit Schedule (Year 2024)'!$1:$1,0)))),"-") | F33: =IFERROR(IF(ISBLANK($D33),"",(INDEX('Unit Schedule (Year 2024)'!$A:$H,MATCH(TRIM('Course Map'!$D33),'Unit Schedule (Year 2024)'!$A:$A,0),MATCH('Course Map'!F$19,'Unit Schedule (Year 2024)'!$1:$1,0)))),"-") | G33: =IFERROR(IF(ISBLANK($D33),"",(INDEX('Unit Schedule (Year 2024)'!$A:$H,MATCH(TRIM('Course Map'!$D33),'Unit Schedule (Year 2024)'!$A:$A,0),MATCH('Course Map'!G$19,'Unit Schedule (Year 2024)'!$1:$1,0)))),"-") | H33: =IF(ISBLANK(D33),"",IF(AND(E33="-",F33="-",G33="-",OR(AND(LEN(TRIM(D33))=7,MID(TRIM(D33),4,1)="4"),AND(LEN(TRIM(D33))=7,MID(TRIM(D33),4,1)="5"))),"Additional","-")) | I33: =IF($H33="YES","refer to handbook",IF(ISBLANK(D33),"",IF(ISNUMBER(SEARCH($C$34,INDEX('Unit Schedule (Year 2024)'!$A:$H,MATCH(TRIM('Course Map'!D33),'Unit Schedule (Year 2024)'!$A:$A,0),4))),"Yes","No")))
C34: =IF($D$10<>"Select Intake Semester",IF($D$10="February Intake","Semester 2",IF($D$10="July Intake","Semester 1","Semester 1")),"Please select semester") -> Please select semester | E34: =IFERROR(IF(ISBLANK($D34),"",(INDEX('Unit Schedule (Year 2024)'!$A:$H,MATCH(TRIM('Course Map'!$D34),'Unit Schedule (Year 2024)'!$A:$A,0),MATCH('Course Map'!E$19,'Unit Schedule (Year 2024)'!$1:$1,0)))),"-") | F34: =IFERROR(IF(ISBLANK($D34),"",(INDEX('Unit Schedule (Year 2024)'!$A:$H,MATCH(TRIM('Course Map'!$D34),'Unit Schedule (Year 2024)'!$A:$A,0),MATCH('Course Map'!F$19,'Unit Schedule (Year 2024)'!$1:$1,0)))),"-") | G34: =IFERROR(IF(ISBLANK($D34),"",(INDEX('Unit Schedule (Year 2024)'!$A:$H,MATCH(TRIM('Course Map'!$D34),'Unit Schedule (Year 2024)'!$A:$A,0),MATCH('Course Map'!G$19,'Unit Schedule (Year 2024)'!$1:$1,0)))),"-") | H34: =IF(ISBLANK(D34),"",IF(AND(E34="-",F34="-",G34="-",OR(AND(LEN(TRIM(D34))=7,MID(TRIM(D34),4,1)="4"),AND(LEN(TRIM(D34))=7,MID(TRIM(D34),4,1)="5"))),"Additional","-")) | I34: =IF($H34="YES","refer to handbook",IF(ISBLANK(D34),"",IF(ISNUMBER(SEARCH($C$34,INDEX('Unit Schedule (Year 2024)'!$A:$H,MATCH(TRIM('Course Map'!D34),'Unit Schedule (Year 2024)'!$A:$A,0),4))),"Yes","No")))
E35: =IFERROR(IF(ISBLANK($D35),"",(INDEX('Unit Schedule (Year 2024)'!$A:$H,MATCH(TRIM('Course Map'!$D35),'Unit Schedule (Year 2024)'!$A:$A,0),MATCH('Course Map'!E$19,'Unit Schedule (Year 2024)'!$1:$1,0)))),"-") | F35: =IFERROR(IF(ISBLANK($D35),"",(INDEX('Unit Schedule (Year 2024)'!$A:$H,MATCH(TRIM('Course Map'!$D35),'Unit Schedule (Year 2024)'!$A:$A,0),MATCH('Course Map'!F$19,'Unit Schedule (Year 2024)'!$1:$1,0)))),"-") | G35: =IFERROR(IF(ISBLANK($D35),"",(INDEX('Unit Schedule (Year 2024)'!$A:$H,MATCH(TRIM('Course Map'!$D35),'Unit Schedule (Year 2024)'!$A:$A,0),MATCH('Course Map'!G$19,'Unit Schedule (Year 2024)'!$1:$1,0)))),"-") | H35: =IF(ISBLANK(D35),"",IF(AND(E35="-",F35="-",G35="-",OR(AND(LEN(TRIM(D35))=7,MID(TRIM(D35),4,1)="4"),AND(LEN(TRIM(D35))=7,MID(TRIM(D35),4,1)="5"))),"Additional","-")) | I35: =IF($H35="YES","refer to handbook",IF(ISBLANK(D35),"",IF(ISNUMBER(SEARCH($C$34,INDEX('Unit Schedule (Year 2024)'!$A:$H,MATCH(TRIM('Course Map'!D35),'Unit Schedule (Year 2024)'!$A:$A,0),4))),"Yes","No")))
C39: Extra semesters
C40: Select Year here | E40: =IFERROR(IF(ISBLANK($D40),"",(INDEX('Unit Schedule (Year 2024)'!$A:$H,MATCH(TRIM('Course Map'!$D40),'Unit Schedule (Year 2024)'!$A:$A,0),MATCH('Course Map'!E$19,'Unit Schedule (Year 2024)'!$1:$1,0)))),"-") | F40: =IFERROR(IF(ISBLANK($D40),"",(INDEX('Unit Schedule (Year 2024)'!$A:$H,MATCH(TRIM('Course Map'!$D40),'Unit Schedule (Year 2024)'!$A:$A,0),MATCH('Course Map'!F$19,'Unit Schedule (Year 2024)'!$1:$1,0)))),"-") | G40: =IFERROR(IF(ISBLANK($D40),"",(INDEX('Unit Schedule (Year 2024)'!$A:$H,MATCH(TRIM('Course Map'!$D40),'Unit Schedule (Year 2024)'!$A:$A,0),MATCH('Course Map'!G$19,'Unit Schedule (Year 2024)'!$1:$1,0)))),"-") | H40: =IF(ISBLANK(D40),"",IF(AND(E40="-",F40="-",G40="-",OR(AND(LEN(TRIM(D40))=7,MID(TRIM(D40),4,1)="4"),AND(LEN(TRIM(D40))=7,MID(TRIM(D40),4,1)="5"))),"Additional","-")) | I40: =IF($H40="YES","refer to handbook",IF(ISBLANK(D40),"",IF(ISNUMBER(SEARCH($C$41,INDEX('Unit Schedule (Year 2024)'!$A:$H,MATCH(TRIM('Course Map'!D40),'Unit Schedule (Year 2024)'!$A:$A,0),4))),"Yes","No")))
C41: Select Alt semester | E41: =IFERROR(IF(ISBLANK($D41),"",(INDEX('Unit Schedule (Year 2024)'!$A:$H,MATCH(TRIM('Course Map'!$D41),'Unit Schedule (Year 2024)'!$A:$A,0),MATCH('Course Map'!E$19,'Unit Schedule (Year 2024)'!$1:$1,0)))),"-") | F41: =IFERROR(IF(ISBLANK($D41),"",(INDEX('Unit Schedule (Year 2024)'!$A:$H,MATCH(TRIM('Course Map'!$D41),'Unit Schedule (Year 2024)'!$A:$A,0),MATCH('Course Map'!F$19,'Unit Schedule (Year 2024)'!$1:$1,0)))),"-") | G41: =IFERROR(IF(ISBLANK($D41),"",(INDEX('Unit Schedule (Year 2024)'!$A:$H,MATCH(TRIM('Course Map'!$D41),'Unit Schedule (Year 2024)'!$A:$A,0),MATCH('Course Map'!G$19,'Unit Schedule (Year 2024)'!$1:$1,0)))),"-") | H41: =IF(ISBLANK(D41),"",IF(AND(E41="-",F41="-",G41="-",OR(AND(LEN(TRIM(D41))=7,MID(TRIM(D41),4,1)="4"),AND(LEN(TRIM(D41))=7,MID(TRIM(D41),4,1)="5"))),"Additional","-")) | I41: =IF($H41="YES","refer to handbook",IF(ISBLANK(D41),"",IF(ISNUMBER(SEARCH($C$41,INDEX('Unit Schedule (Year 2024)'!$A:$H,MATCH(TRIM('Course Map'!D41),'Unit Schedule (Year 2024)'!$A:$A,0),4))),"Yes","No")))
C42: Select Year here | E42: =IFERROR(IF(ISBLANK($D42),"",(INDEX('Unit Schedule (Year 2024)'!$A:$H,MATCH(TRIM('Course Map'!$D42),'Unit Schedule (Year 2024)'!$A:$A,0),MATCH('Course Map'!E$19,'Unit Schedule (Year 2024)'!$1:$1,0)))),"-") | F42: =IFERROR(IF(ISBLANK($D42),"",(INDEX('Unit Schedule (Year 2024)'!$A:$H,MATCH(TRIM('Course Map'!$D42),'Unit Schedule (Year 2024)'!$A:$A,0),MATCH('Course Map'!F$19,'Unit Schedule (Year 2024)'!$1:$1,0)))),"-") | G42: =IFERROR(IF(ISBLANK($D42),"",(INDEX('Unit Schedule (Year 2024)'!$A:$H,MATCH(TRIM('Course Map'!$D42),'Unit Schedule (Year 2024)'!$A:$A,0),MATCH('Course Map'!G$19,'Unit Schedule (Year 2024)'!$1:$1,0)))),"-") | H42: =IF(ISBLANK(D42),"",IF(AND(E42="-",F42="-",G42="-",OR(AND(LEN(TRIM(D42))=7,MID(TRIM(D42),4,1)="4"),AND(LEN(TRIM(D42))=7,MID(TRIM(D42),4,1)="5"))),"Additional","-")) | I42: =IF($H42="YES","refer to handbook",IF(ISBLANK(D42),"",IF(ISNUMBER(SEARCH($C$43,INDEX('Unit Schedule (Year 2024)'!$A:$H,MATCH(TRIM('Course Map'!D42),'Unit Schedule (Year 2024)'!$A:$A,0),4))),"Yes","No")))
C43: Select Alt semester | E43: =IFERROR(IF(ISBLANK($D43),"",(INDEX('Unit Schedule (Year 2024)'!$A:$H,MATCH(TRIM('Course Map'!$D43),'Unit Schedule (Year 2024)'!$A:$A,0),MATCH('Course Map'!E$19,'Unit Schedule (Year 2024)'!$1:$1,0)))),"-") | F43: =IFERROR(IF(ISBLANK($D43),"",(INDEX('Unit Schedule (Year 2024)'!$A:$H,MATCH(TRIM('Course Map'!$D43),'Unit Schedule (Year 2024)'!$A:$A,0),MATCH('Course Map'!F$19,'Unit Schedule (Year 2024)'!$1:$1,0)))),"-") | G43: =IFERROR(IF(ISBLANK($D43),"",(INDEX('Unit Schedule (Year 2024)'!$A:$H,MATCH(TRIM('Course Map'!$D43),'Unit Schedule (Year 2024)'!$A:$A,0),MATCH('Course Map'!G$19,'Unit Schedule (Year 2024)'!$1:$1,0)))),"-") | H43: =IF(ISBLANK(D43),"",IF(AND(E43="-",F43="-",G43="-",OR(AND(LEN(TRIM(D43))=7,MID(TRIM(D43),4,1)="4"),AND(LEN(TRIM(D43))=7,MID(TRIM(D43),4,1)="5"))),"Additional","-")) | I43: =IF($H43="YES","refer to handbook",IF(ISBLANK(D43),"",IF(ISNUMBER(SEARCH($C$43,INDEX('Unit Schedule (Year 2024)'!$A:$H,MATCH(TRIM('Course Map'!D43),'Unit Schedule (Year 2024)'!$A:$A,0),4))),"Yes","No")))
C44: Select Year here | E44: =IFERROR(IF(ISBLANK($D44),"",(INDEX('Unit Schedule (Year 2024)'!$A:$H,MATCH(TRIM('Course Map'!$D44),'Unit Schedule (Year 2024)'!$A:$A,0),MATCH('Course Map'!E$19,'Unit Schedule (Year 2024)'!$1:$1,0)))),"-") | F44: =IFERROR(IF(ISBLANK($D44),"",(INDEX('Unit Schedule (Year 2024)'!$A:$H,MATCH(TRIM('Course Map'!$D44),'Unit Schedule (Year 2024)'!$A:$A,0),MATCH('Course Map'!F$19,'Unit Schedule (Year 2024)'!$1:$1,0)))),"-") | G44: =IFERROR(IF(ISBLANK($D44),"",(INDEX('Unit Schedule (Year 2024)'!$A:$H,MATCH(TRIM('Course Map'!$D44),'Unit Schedule (Year 2024)'!$A:$A,0),MATCH('Course Map'!G$19,'Unit Schedule (Year 2024)'!$1:$1,0)))),"-") | H44: =IF(ISBLANK(D44),"",IF(AND(E44="-",F44="-",G44="-",OR(AND(LEN(TRIM(D44))=7,MID(TRIM(D44),4,1)="4"),AND(LEN(TRIM(D44))=7,MID(TRIM(D44),4,1)="5"))),"Additional","-")) | I44: =IF($H44="YES","refer to handbook",IF(ISBLANK(D44),"",IF(ISNUMBER(SEARCH(C46,INDEX('Unit Schedule (Year 2024)'!$A:$H,MATCH(TRIM('Course Map'!D44),'Unit Schedule (Year 2024)'!$A:$A,0),4))),"Yes","No")))
E45: =IFERROR(IF(ISBLANK($D45),"",(INDEX('Unit Schedule (Year 2024)'!$A:$H,MATCH(TRIM('Course Map'!$D45),'Unit Schedule (Year 2024)'!$A:$A,0),MATCH('Course Map'!E$19,'Unit Schedule (Year 2024)'!$1:$1,0)))),"-") | F45: =IFERROR(IF(ISBLANK($D45),"",(INDEX('Unit Schedule (Year 2024)'!$A:$H,MATCH(TRIM('Course Map'!$D45),'Unit Schedule (Year 2024)'!$A:$A,0),MATCH('Course Map'!F$19,'Unit Schedule (Year 2024)'!$1:$1,0)))),"-") | G45: =IFERROR(IF(ISBLANK($D45),"",(INDEX('Unit Schedule (Year 2024)'!$A:$H,MATCH(TRIM('Course Map'!$D45),'Unit Schedule (Year 2024)'!$A:$A,0),MATCH('Course Map'!G$19,'Unit Schedule (Year 2024)'!$1:$1,0)))),"-") | H45: =IF(ISBLANK(D45),"",IF(AND(E45="-",F45="-",G45="-",OR(AND(LEN(TRIM(D45))=7,MID(TRIM(D45),4,1)="4"),AND(LEN(TRIM(D45))=7,MID(TRIM(D45),4,1)="5"))),"Additional","-")) | I45: =IF($H45="YES","refer to handbook",IF(ISBLANK(D45),"",IF(ISNUMBER(SEARCH(C46,INDEX('Unit Schedule (Year 2024)'!$A:$H,MATCH(TRIM('Course Map'!D45),'Unit Schedule (Year 2024)'!$A:$A,0),4))),"Yes","No")))
C46: Select semester here | E46: =IFERROR(IF(ISBLANK($D46),"",(INDEX('Unit Schedule (Year 2024)'!$A:$H,MATCH(TRIM('Course Map'!$D46),'Unit Schedule (Year 2024)'!$A:$A,0),MATCH('Course Map'!E$19,'Unit Schedule (Year 2024)'!$1:$1,0)))),"-") | F46: =IFERROR(IF(ISBLANK($D46),"",(INDEX('Unit Schedule (Year 2024)'!$A:$H,MATCH(TRIM('Course Map'!$D46),'Unit Schedule (Year 2024)'!$A:$A,0),MATCH('Course Map'!F$19,'Unit Schedule (Year 2024)'!$1:$1,0)))),"-") | G46: =IFERROR(IF(ISBLANK($D46),"",(INDEX('Unit Schedule (Year 2024)'!$A:$H,MATCH(TRIM('Course Map'!$D46),'Unit Schedule (Year 2024)'!$A:$A,0),MATCH('Course Map'!G$19,'Unit Schedule (Year 2024)'!$1:$1,0)))),"-") | H46: =IF(ISBLANK(D46),"",IF(AND(E46="-",F46="-",G46="-",OR(AND(LEN(TRIM(D46))=7,MID(TRIM(D46),4,1)="4"),AND(LEN(TRIM(D46))=7,MID(TRIM(D46),4,1)="5"))),"Additional","-")) | I46: =IF($H46="YES","refer to handbook",IF(ISBLANK(D46),"",IF(ISNUMBER(SEARCH(C46,INDEX('Unit Schedule (Year 2024)'!$A:$H,MATCH(TRIM('Course Map'!D46),'Unit Schedule (Year 2024)'!$A:$A,0),4))),"Yes","No")))
E47: =IFERROR(IF(ISBLANK($D47),"",(INDEX('Unit Schedule (Year 2024)'!$A:$H,MATCH(TRIM('Course Map'!$D47),'Unit Schedule (Year 2024)'!$A:$A,0),MATCH('Course Map'!E$19,'Unit Schedule (Year 2024)'!$1:$1,0)))),"-") | F47: =IFERROR(IF(ISBLANK($D47),"",(INDEX('Unit Schedule (Year 2024)'!$A:$H,MATCH(TRIM('Course Map'!$D47),'Unit Schedule (Year 2024)'!$A:$A,0),MATCH('Course Map'!F$19,'Unit Schedule (Year 2024)'!$1:$1,0)))),"-") | G47: =IFERROR(IF(ISBLANK($D47),"",(INDEX('Unit Schedule (Year 2024)'!$A:$H,MATCH(TRIM('Course Map'!$D47),'Unit Schedule (Year 2024)'!$A:$A,0),MATCH('Course Map'!G$19,'Unit Schedule (Year 2024)'!$1:$1,0)))),"-") | H47: =IF(ISBLANK(D47),"",IF(AND(E47="-",F47="-",G47="-",OR(AND(LEN(TRIM(D47))=7,MID(TRIM(D47),4,1)="4"),AND(LEN(TRIM(D47))=7,MID(TRIM(D47),4,1)="5"))),"Additional","-")) | I47: =IF($H47="YES","refer to handbook",IF(ISBLANK(D47),"",IF(ISNUMBER(SEARCH(C46,INDEX('Unit Schedule (Year 2024)'!$A:$H,MATCH(TRIM('Course Map'!D47),'Unit Schedule (Year 2024)'!$A:$A,0),4))),"Yes","No")))
C48: Select Year here | E48: =IFERROR(IF(ISBLANK($D48),"",(INDEX('Unit Schedule (Year 2024)'!$A:$H,MATCH(TRIM('Course Map'!$D48),'Unit Schedule (Year 2024)'!$A:$A,0),MATCH('Course Map'!E$19,'Unit Schedule (Year 2024)'!$1:$1,0)))),"-") | F48: =IFERROR(IF(ISBLANK($D48),"",(INDEX('Unit Schedule (Year 2024)'!$A:$H,MATCH(TRIM('Course Map'!$D48),'Unit Schedule (Year 2024)'!$A:$A,0),MATCH('Course Map'!F$19,'Unit Schedule (Year 2024)'!$1:$1,0)))),"-") | G48: =IFERROR(IF(ISBLANK($D48),"",(INDEX('Unit Schedule (Year 2024)'!$A:$H,MATCH(TRIM('Course Map'!$D48),'Unit Schedule (Year 2024)'!$A:$A,0),MATCH('Course Map'!G$19,'Unit Schedule (Year 2024)'!$1:$1,0)))),"-") | H48: =IF(ISBLANK(D48),"",IF(AND(E48="-",F48="-",G48="-",OR(AND(LEN(TRIM(D48))=7,MID(TRIM(D48),4,1)="4"),AND(LEN(TRIM(D48))=7,MID(TRIM(D48),4,1)="5"))),"Additional","-")) | I48: =IF($H48="YES","refer to handbook",IF(ISBLANK(D48),"",IF(ISNUMBER(SEARCH(C50,INDEX('Unit Schedule (Year 2024)'!$A:$H,MATCH(TRIM('Course Map'!D48),'Unit Schedule (Year 2024)'!$A:$A,0),4))),"Yes","No")))
E49: =IFERROR(IF(ISBLANK($D49),"",(INDEX('Unit Schedule (Year 2024)'!$A:$H,MATCH(TRIM('Course Map'!$D49),'Unit Schedule (Year 2024)'!$A:$A,0),MATCH('Course Map'!E$19,'Unit Schedule (Year 2024)'!$1:$1,0)))),"-") | F49: =IFERROR(IF(ISBLANK($D49),"",(INDEX('Unit Schedule (Year 2024)'!$A:$H,MATCH(TRIM('Course Map'!$D49),'Unit Schedule (Year 2024)'!$A:$A,0),MATCH('Course Map'!F$19,'Unit Schedule (Year 2024)'!$1:$1,0)))),"-") | G49: =IFERROR(IF(ISBLANK($D49),"",(INDEX('Unit Schedule (Year 2024)'!$A:$H,MATCH(TRIM('Course Map'!$D49),'Unit Schedule (Year 2024)'!$A:$A,0),MATCH('Course Map'!G$19,'Unit Schedule (Year 2024)'!$1:$1,0)))),"-") | H49: =IF(ISBLANK(D49),"",IF(AND(E49="-",F49="-",G49="-",OR(AND(LEN(TRIM(D49))=7,MID(TRIM(D49),4,1)="4"),AND(LEN(TRIM(D49))=7,MID(TRIM(D49),4,1)="5"))),"Additional","-")) | I49: =IF($H49="YES","refer to handbook",IF(ISBLANK(D49),"",IF(ISNUMBER(SEARCH(C50,INDEX('Unit Schedule (Year 2024)'!$A:$H,MATCH(TRIM('Course Map'!D49),'Unit Schedule (Year 2024)'!$A:$A,0),4))),"Yes","No")))
C50: Select semester here | E50: =IFERROR(IF(ISBLANK($D50),"",(INDEX('Unit Schedule (Year 2024)'!$A:$H,MATCH(TRIM('Course Map'!$D50),'Unit Schedule (Year 2024)'!$A:$A,0),MATCH('Course Map'!E$19,'Unit Schedule (Year 2024)'!$1:$1,0)))),"-") | F50: =IFERROR(IF(ISBLANK($D50),"",(INDEX('Unit Schedule (Year 2024)'!$A:$H,MATCH(TRIM('Course Map'!$D50),'Unit Schedule (Year 2024)'!$A:$A,0),MATCH('Course Map'!F$19,'Unit Schedule (Year 2024)'!$1:$1,0)))),"-") | G50: =IFERROR(IF(ISBLANK($D50),"",(INDEX('Unit Schedule (Year 2024)'!$A:$H,MATCH(TRIM('Course Map'!$D50),'Unit Schedule (Year 2024)'!$A:$A,0),MATCH('Course Map'!G$19,'Unit Schedule (Year 2024)'!$1:$1,0)))),"-") | H50: =IF(ISBLANK(D50),"",IF(AND(E50="-",F50="-",G50="-",OR(AND(LEN(TRIM(D50))=7,MID(TRIM(D50),4,1)="4"),AND(LEN(TRIM(D50))=7,MID(TRIM(D50),4,1)="5"))),"Additional","-")) | I50: =IF($H50="YES","refer to handbook",IF(ISBLANK(D50),"",IF(ISNUMBER(SEARCH(C50,INDEX('Unit Schedule (Year 2024)'!$A:$H,MATCH(TRIM('Course Map'!D50),'Unit Schedule (Year 2024)'!$A:$A,0),4))),"Yes","No")))
E51: =IFERROR(IF(ISBLANK($D51),"",(INDEX('Unit Schedule (Year 2024)'!$A:$H,MATCH(TRIM('Course Map'!$D51),'Unit Schedule (Year 2024)'!$A:$A,0),MATCH('Course Map'!E$19,'Unit Schedule (Year 2024)'!$1:$1,0)))),"-") | F51: =IFERROR(IF(ISBLANK($D51),"",(INDEX('Unit Schedule (Year 2024)'!$A:$H,MATCH(TRIM('Course Map'!$D51),'Unit Schedule (Year 2024)'!$A:$A,0),MATCH('Course Map'!F$19,'Unit Schedule (Year 2024)'!$1:$1,0)))),"-") | G51: =IFERROR(IF(ISBLANK($D51),"",(INDEX('Unit Schedule (Year 2024)'!$A:$H,MATCH(TRIM('Course Map'!$D51),'Unit Schedule (Year 2024)'!$A:$A,0),MATCH('Course Map'!G$19,'Unit Schedule (Year 2024)'!$1:$1,0)))),"-") | H51: =IF(ISBLANK(D51),"",IF(AND(E51="-",F51="-",G51="-",OR(AND(LEN(TRIM(D51))=7,MID(TRIM(D51),4,1)="4"),AND(LEN(TRIM(D51))=7,MID(TRIM(D51),4,1)="5"))),"Additional","-")) | I51: =IF($H51="YES","refer to handbook",IF(ISBLANK(D51),"",IF(ISNUMBER(SEARCH(C50,INDEX('Unit Schedule (Year 2024)'!$A:$H,MATCH(TRIM('Course Map'!D51),'Unit Schedule (Year 2024)'!$A:$A,0),4))),"Yes","No")))
C55: Remarks
C63: Select here | D63: I acknowldged that I have completed my course map plan above in compliance with the program requirements in the handbook and I further confirm that I have manually checked the above against the unit schedule and the handbook.
C65: If you have received a credit letter, complete the Credit (Advanced Standing) table. | G65: CLICK HERE

Sheet Credit (Advanced Standing)
C3: Postgraduate Diploma in Business and Commerce Course Code: B5003
C5: CREDIT (ADVANCED STANDING) - if any
C6: List all the units you are eligible for exemptions as per your credit letter. The exempted units are also listed in the Credit (advanced standing) section of your WES portal.
C7: • Web Enrolment System (WES) portal
C8: • Information on credits for prior learning
C10: Instructions: 1. Select the number of electives exempted as per your credit letter. If none, leave it blank. 2. Please input the unit code as per the credit letter into the Unit Code field.
C14: Number of Units | D14: Electives Level
D15: electives at level 4
D16: electives at level 5
C20: Unit Code | D20: Part A | E20: Part B
D21: ='Course Map'!E19 -> Research | E21: ='Course Map'!F19 -> Coursework
D22: =IFERROR(IF(ISBLANK($C22),"",(INDEX('Unit Schedule (Year 2024)'!$A:$H,MATCH(TRIM($C22),'Unit Schedule (Year 2024)'!$A:$A,0),MATCH(D$21,'Unit Schedule (Year 2024)'!$1:$1,0)))),"-") | E22: =IFERROR(IF(ISBLANK($C22),"",(INDEX('Unit Schedule (Year 2024)'!$A:$H,MATCH(TRIM($C22),'Unit Schedule (Year 2024)'!$A:$A,0),MATCH(E$21,'Unit Schedule (Year 2024)'!$1:$1,0)))),"-") | F22: =IFERROR(IF(ISBLANK($C22),"",(INDEX('Unit Schedule (Year 2024)'!$A:$H,MATCH(TRIM($C22),'Unit Schedule (Year 2024)'!$A:$A,0),MATCH(F$21,'Unit Schedule (Year 2024)'!$1:$1,0)))),"-") | G22: =IF(ISBLANK(C22),"",IF(AND(D22="-",E22="-",F22="-",OR(AND(LEN(TRIM(C22))=7,MID(TRIM(C22),4,1)="4"),AND(LEN(TRIM(C22))=7,MID(TRIM(C22),4,1)="5"))),"Additional","-"))
D23: =IFERROR(IF(ISBLANK($C23),"",(INDEX('Unit Schedule (Year 2024)'!$A:$H,MATCH(TRIM($C23),'Unit Schedule (Year 2024)'!$A:$A,0),MATCH(D$21,'Unit Schedule (Year 2024)'!$1:$1,0)))),"-") | E23: =IFERROR(IF(ISBLANK($C23),"",(INDEX('Unit Schedule (Year 2024)'!$A:$H,MATCH(TRIM($C23),'Unit Schedule (Year 2024)'!$A:$A,0),MATCH(E$21,'Unit Schedule (Year 2024)'!$1:$1,0)))),"-") | F23: =IFERROR(IF(ISBLANK($C23),"",(INDEX('Unit Schedule (Year 2024)'!$A:$H,MATCH(TRIM($C23),'Unit Schedule (Year 2024)'!$A:$A,0),MATCH(F$21,'Unit Schedule (Year 2024)'!$1:$1,0)))),"-") | G23: =IF(ISBLANK(C23),"",IF(AND(D23="-",E23="-",F23="-",OR(AND(LEN(TRIM(C23))=7,MID(TRIM(C23),4,1)="4"),AND(LEN(TRIM(C23))=7,MID(TRIM(C23),4,1)="5"))),"Additional","-"))
D24: =IFERROR(IF(ISBLANK($C24),"",(INDEX('Unit Schedule (Year 2024)'!$A:$H,MATCH(TRIM($C24),'Unit Schedule (Year 2024)'!$A:$A,0),MATCH(D$21,'Unit Schedule (Year 2024)'!$1:$1,0)))),"-") | E24: =IFERROR(IF(ISBLANK($C24),"",(INDEX('Unit Schedule (Year 2024)'!$A:$H,MATCH(TRIM($C24),'Unit Schedule (Year 2024)'!$A:$A,0),MATCH(E$21,'Unit Schedule (Year 2024)'!$1:$1,0)))),"-") | F24: =IFERROR(IF(ISBLANK($C24),"",(INDEX('Unit Schedule (Year 2024)'!$A:$H,MATCH(TRIM($C24),'Unit Schedule (Year 2024)'!$A:$A,0),MATCH(F$21,'Unit Schedule (Year 2024)'!$1:$1,0)))),"-") | G24: =IF(ISBLANK(C24),"",IF(AND(D24="-",E24="-",F24="-",OR(AND(LEN(TRIM(C24))=7,MID(TRIM(C24),4,1)="4"),AND(LEN(TRIM(C24))=7,MID(TRIM(C24),4,1)="5"))),"Additional","-"))
D25: =IFERROR(IF(ISBLANK($C25),"",(INDEX('Unit Schedule (Year 2024)'!$A:$H,MATCH(TRIM($C25),'Unit Schedule (Year 2024)'!$A:$A,0),MATCH(D$21,'Unit Schedule (Year 2024)'!$1:$1,0)))),"-") | E25: =IFERROR(IF(ISBLANK($C25),"",(INDEX('Unit Schedule (Year 2024)'!$A:$H,MATCH(TRIM($C25),'Unit Schedule (Year 2024)'!$A:$A,0),MATCH(E$21,'Unit Schedule (Year 2024)'!$1:$1,0)))),"-") | F25: =IFERROR(IF(ISBLANK($C25),"",(INDEX('Unit Schedule (Year 2024)'!$A:$H,MATCH(TRIM($C25),'Unit Schedule (Year 2024)'!$A:$A,0),MATCH(F$21,'Unit Schedule (Year 2024)'!$1:$1,0)))),"-") | G25: =IF(ISBLANK(C25),"",IF(AND(D25="-",E25="-",F25="-",OR(AND(LEN(TRIM(C25))=7,MID(TRIM(C25),4,1)="4"),AND(LEN(TRIM(C25))=7,MID(TRIM(C25),4,1)="5"))),"Additional","-"))
D26: =IFERROR(IF(ISBLANK($C26),"",(INDEX('Unit Schedule (Year 2024)'!$A:$H,MATCH(TRIM($C26),'Unit Schedule (Year 2024)'!$A:$A,0),MATCH(D$21,'Unit Schedule (Year 2024)'!$1:$1,0)))),"-") | E26: =IFERROR(IF(ISBLANK($C26),"",(INDEX('Unit Schedule (Year 2024)'!$A:$H,MATCH(TRIM($C26),'Unit Schedule (Year 2024)'!$A:$A,0),MATCH(E$21,'Unit Schedule (Year 2024)'!$1:$1,0)))),"-") | F26: =IFERROR(IF(ISBLANK($C26),"",(INDEX('Unit Schedule (Year 2024)'!$A:$H,MATCH(TRIM($C26),'Unit Schedule (Year 2024)'!$A:$A,0),MATCH(F$21,'Unit Schedule (Year 2024)'!$1:$1,0)))),"-") | G26: =IF(ISBLANK(C26),"",IF(AND(D26="-",E26="-",F26="-",OR(AND(LEN(TRIM(C26))=7,MID(TRIM(C26),4,1)="4"),AND(LEN(TRIM(C26))=7,MID(TRIM(C26),4,1)="5"))),"Additional","-"))
D27: =IFERROR(IF(ISBLANK($C27),"",(INDEX('Unit Schedule (Year 2024)'!$A:$H,MATCH(TRIM($C27),'Unit Schedule (Year 2024)'!$A:$A,0),MATCH(D$21,'Unit Schedule (Year 2024)'!$1:$1,0)))),"-") | E27: =IFERROR(IF(ISBLANK($C27),"",(INDEX('Unit Schedule (Year 2024)'!$A:$H,MATCH(TRIM($C27),'Unit Schedule (Year 2024)'!$A:$A,0),MATCH(E$21,'Unit Schedule (Year 2024)'!$1:$1,0)))),"-") | F27: =IFERROR(IF(ISBLANK($C27),"",(INDEX('Unit Schedule (Year 2024)'!$A:$H,MATCH(TRIM($C27),'Unit Schedule (Year 2024)'!$A:$A,0),MATCH(F$21,'Unit Schedule (Year 2024)'!$1:$1,0)))),"-") | G27: =IF(ISBLANK(C27),"",IF(AND(D27="-",E27="-",F27="-",OR(AND(LEN(TRIM(C27))=7,MID(TRIM(C27),4,1)="4"),AND(LEN(TRIM(C27))=7,MID(TRIM(C27),4,1)="5"))),"Additional","-"))
D28: =IFERROR(IF(ISBLANK($C28),"",(INDEX('Unit Schedule (Year 2024)'!$A:$H,MATCH(TRIM($C28),'Unit Schedule (Year 2024)'!$A:$A,0),MATCH(D$21,'Unit Schedule (Year 2024)'!$1:$1,0)))),"-") | E28: =IFERROR(IF(ISBLANK($C28),"",(INDEX('Unit Schedule (Year 2024)'!$A:$H,MATCH(TRIM($C28),'Unit Schedule (Year 2024)'!$A:$A,0),MATCH(E$21,'Unit Schedule (Year 2024)'!$1:$1,0)))),"-") | F28: =IFERROR(IF(ISBLANK($C28),"",(INDEX('Unit Schedule (Year 2024)'!$A:$H,MATCH(TRIM($C28),'Unit Schedule (Year 2024)'!$A:$A,0),MATCH(F$21,'Unit Schedule (Year 2024)'!$1:$1,0)))),"-") | G28: =IF(ISBLANK(C28),"",IF(AND(D28="-",E28="-",F28="-",OR(AND(LEN(TRIM(C28))=7,MID(TRIM(C28),4,1)="4"),AND(LEN(TRIM(C28))=7,MID(TRIM(C28),4,1)="5"))),"Additional","-"))
D29: =IFERROR(IF(ISBLANK($C29),"",(INDEX('Unit Schedule (Year 2024)'!$A:$H,MATCH(TRIM($C29),'Unit Schedule (Year 2024)'!$A:$A,0),MATCH(D$21,'Unit Schedule (Year 2024)'!$1:$1,0)))),"-") | E29: =IFERROR(IF(ISBLANK($C29),"",(INDEX('Unit Schedule (Year 2024)'!$A:$H,MATCH(TRIM($C29),'Unit Schedule (Year 2024)'!$A:$A,0),MATCH(E$21,'Unit Schedule (Year 2024)'!$1:$1,0)))),"-") | F29: =IFERROR(IF(ISBLANK($C29),"",(INDEX('Unit Schedule (Year 2024)'!$A:$H,MATCH(TRIM($C29),'Unit Schedule (Year 2024)'!$A:$A,0),MATCH(F$21,'Unit Schedule (Year 2024)'!$1:$1,0)))),"-") | G29: =IF(ISBLANK(C29),"",IF(AND(D29="-",E29="-",F29="-",OR(AND(LEN(TRIM(C29))=7,MID(TRIM(C29),4,1)="4"),AND(LEN(TRIM(C29))=7,MID(TRIM(C29),4,1)="5"))),"Additional","-"))
D30: =IFERROR(IF(ISBLANK($C30),"",(INDEX('Unit Schedule (Year 2024)'!$A:$H,MATCH(TRIM($C30),'Unit Schedule (Year 2024)'!$A:$A,0),MATCH(D$21,'Unit Schedule (Year 2024)'!$1:$1,0)))),"-") | E30: =IFERROR(IF(ISBLANK($C30),"",(INDEX('Unit Schedule (Year 2024)'!$A:$H,MATCH(TRIM($C30),'Unit Schedule (Year 2024)'!$A:$A,0),MATCH(E$21,'Unit Schedule (Year 2024)'!$1:$1,0)))),"-") | F30: =IFERROR(IF(ISBLANK($C30),"",(INDEX('Unit Schedule (Year 2024)'!$A:$H,MATCH(TRIM($C30),'Unit Schedule (Year 2024)'!$A:$A,0),MATCH(F$21,'Unit Schedule (Year 2024)'!$1:$1,0)))),"-") | G30: =IF(ISBLANK(C30),"",IF(AND(D30="-",E30="-",F30="-",OR(AND(LEN(TRIM(C30))=7,MID(TRIM(C30),4,1)="4"),AND(LEN(TRIM(C30))=7,MID(TRIM(C30),4,1)="5"))),"Additional","-"))
D31: =IFERROR(IF(ISBLANK($C31),"",(INDEX('Unit Schedule (Year 2024)'!$A:$H,MATCH(TRIM($C31),'Unit Schedule (Year 2024)'!$A:$A,0),MATCH(D$21,'Unit Schedule (Year 2024)'!$1:$1,0)))),"-") | E31: =IFERROR(IF(ISBLANK($C31),"",(INDEX('Unit Schedule (Year 2024)'!$A:$H,MATCH(TRIM($C31),'Unit Schedule (Year 2024)'!$A:$A,0),MATCH(E$21,'Unit Schedule (Year 2024)'!$1:$1,0)))),"-") | F31: =IFERROR(IF(ISBLANK($C31),"",(INDEX('Unit Schedule (Year 2024)'!$A:$H,MATCH(TRIM($C31),'Unit Schedule (Year 2024)'!$A:$A,0),MATCH(F$21,'Unit Schedule (Year 2024)'!$1:$1,0)))),"-") | G31: =IF(ISBLANK(C31),"",IF(AND(D31="-",E31="-",F31="-",OR(AND(LEN(TRIM(C31))=7,MID(TRIM(C31),4,1)="4"),AND(LEN(TRIM(C31))=7,MID(TRIM(C31),4,1)="5"))),"Additional","-"))
D32: =IFERROR(IF(ISBLANK($C32),"",(INDEX('Unit Schedule (Year 2024)'!$A:$H,MATCH(TRIM($C32),'Unit Schedule (Year 2024)'!$A:$A,0),MATCH(D$21,'Unit Schedule (Year 2024)'!$1:$1,0)))),"-") | E32: =IFERROR(IF(ISBLANK($C32),"",(INDEX('Unit Schedule (Year 2024)'!$A:$H,MATCH(TRIM($C32),'Unit Schedule (Year 2024)'!$A:$A,0),MATCH(E$21,'Unit Schedule (Year 2024)'!$1:$1,0)))),"-") | F32: =IFERROR(IF(ISBLANK($C32),"",(INDEX('Unit Schedule (Year 2024)'!$A:$H,MATCH(TRIM($C32),'Unit Schedule (Year 2024)'!$A:$A,0),MATCH(F$21,'Unit Schedule (Year 2024)'!$1:$1,0)))),"-") | G32: =IF(ISBLANK(C32),"",IF(AND(D32="-",E32="-",F32="-",OR(AND(LEN(TRIM(C32))=7,MID(TRIM(C32),4,1)="4"),AND(LEN(TRIM(C32))=7,MID(TRIM(C32),4,1)="5"))),"Additional","-"))
D33: =IFERROR(IF(ISBLANK($C33),"",(INDEX('Unit Schedule (Year 2024)'!$A:$H,MATCH(TRIM($C33),'Unit Schedule (Year 2024)'!$A:$A,0),MATCH(D$21,'Unit Schedule (Year 2024)'!$1:$1,0)))),"-") | E33: =IFERROR(IF(ISBLANK($C33),"",(INDEX('Unit Schedule (Year 2024)'!$A:$H,MATCH(TRIM($C33),'Unit Schedule (Year 2024)'!$A:$A,0),MATCH(E$21,'Unit Schedule (Year 2024)'!$1:$1,0)))),"-") | F33: =IFERROR(IF(ISBLANK($C33),"",(INDEX('Unit Schedule (Year 2024)'!$A:$H,MATCH(TRIM($C33),'Unit Schedule (Year 2024)'!$A:$A,0),MATCH(F$21,'Unit Schedule (Year 2024)'!$1:$1,0)))),"-") | G33: =IF(ISBLANK(C33),"",IF(AND(D33="-",E33="-",F33="-",OR(AND(LEN(TRIM(C33))=7,MID(TRIM(C33),4,1)="4"),AND(LEN(TRIM(C33))=7,MID(TRIM(C33),4,1)="5"))),"Additional","-"))
... D37: =IFERROR(IF(ISBLANK($C37),"",(INDEX('Unit Schedule (Year 2024)'!$A:$H,MATCH(TRIM($C37),'Unit Schedule (Year 2024)'!$A:$A,0),MATCH(D$21,'Unit Schedule (Year 2024)'!$1:$1,0)))),"-") | E37: =IFERROR(IF(ISBLANK($C37),"",(INDEX('Unit Schedule (Year 2024)'!$A:$H,MATCH(TRIM($C37),'Unit Schedule (Year 2024)'!$A:$A,0),MATCH(E$21,'Unit Schedule (Year 2024)'!$1:$1,0)))),"-") | F37: =IFERROR(IF(ISBLANK($C37),"",(INDEX('Unit Schedule (Year 2024)'!$A:$H,MATCH(TRIM($C37),'Unit Schedule (Year 2024)'!$A:$A,0),MATCH(F$21,'Unit Schedule (Year 2024)'!$1:$1,0)))),"-") | G37: =IF(ISBLANK(C37),"",IF(AND(D37="-",E37="-",F37="-",OR(AND(LEN(TRIM(C37))=7,MID(TRIM(C37),4,1)="4"),AND(LEN(TRIM(C37))=7,MID(TRIM(C37),4,1)="5"))),"Additional","-"))
C40: Remarks

Sheet Select
A1: Intake Year
A2: Select Intake Year
A3: 2022
A4: 2023
A5: 2024
A6: 2025
A7: 2026
A11: Intake Semester
A12: Select Intake Semester
A13: February Intake
A14: July Intake
A18: Number of Elective Units
A20: 1
A21: 2
A22: 3
A23: 4
A24: 5
A25: 6
A26: 7
A27: 8
A31: Semester
A32: Select semester here
A33: Semester 1
A34: Semester 2
A38: Year
A39: Select Year here
A40: 2022
A41: 2023
A42: 2024
A43: 2025
A44: 2026
A45: 2027
A46: 2028
A50: Alternative Semester
A51: Select Alt semester
A52: Summer
A53: Winter

Sheet Unit Schedule (Year 2024)
A1: Select Unit Code | B1: Unit Name | C1: Remarks | D1: Semesters | E1: Prerequisites | F1: Research | G1: Coursework
A2: BEW4100 | B2: Research project and report | D2: Semester 1 | F2: Core | G2: -
A3: BEW4000 | B3: Qualitative research methodology | D3: Semester 2 | F3: - | G3: Core
A4: BEW4010 | B4: Quantitative research methodology | D4: Semester 2 | F4: - | G4: Core
A5: BEW4020 | B5: Literature review | D5: Semester 2 | F5: - | G5: Core
A6: BEW4030 | B6: Research proposal | D6: Semester 2 | F6: - | G6: Core
F7: - | G7: -
F8: - | G8: -
F9: - | G9: -
F10: - | G10: -
F11: - | G11: -
F12: - | G12: -
F13: - | G13: -
